0.300000
0.000000
0.000000
-0.300000
651270.440089
3687203.223120
