0.300000
0.000000
0.000000
-0.300000
656976.959256
3694229.582759
