0.300000
0.000000
0.000000
-0.300000
651054.059256
3701064.182759
