0.300000
0.000000
0.000000
-0.300000
656864.459256
3701160.182759
