0.300000
0.000000
0.000000
-0.300000
650945.759256
3707994.482759
