0.300000
0.000000
0.000000
-0.300000
656751.959256
3708090.782759
