0.300000
0.000000
0.000000
-0.300000
482288.540089
3547379.823120
