0.300000
0.000000
0.000000
-0.300000
482422.040089
3623589.123120
