0.300000
0.000000
0.000000
-0.300000
535250.540089
3589016.223120
