0.300000
0.000000
0.000000
-0.300000
535226.240089
3595944.423120
