0.300000
0.000000
0.000000
-0.300000
547033.640089
3582142.923120
