0.300000
0.000000
0.000000
-0.300000
552913.040089
3582175.623120
