0.300000
0.000000
0.000000
-0.300000
505894.340089
3554299.023120
