0.300000
0.000000
0.000000
-0.300000
605242.640089
3638055.423120
