0.300000
0.000000
0.000000
-0.300000
611089.640089
3638122.923120
