0.300000
0.000000
0.000000
-0.300000
546838.340089
3623713.323120
