0.300000
0.000000
0.000000
-0.300000
476628.440089
3651315.723120
