0.300000
0.000000
0.000000
-0.300000
482471.240089
3651303.723120
