0.300000
0.000000
0.000000
-0.300000
558094.340089
3700002.123120
