0.300000
0.000000
0.000000
-0.300000
563904.140089
3700042.323120
