0.300000
0.000000
0.000000
-0.300000
558052.940089
3706931.823120
