0.300000
0.000000
0.000000
-0.300000
563858.240089
3706972.023120
