0.300000
0.000000
0.000000
-0.300000
540607.340089
3713761.623120
