0.300000
0.000000
0.000000
-0.300000
540577.940089
3720691.023120
