0.300000
0.000000
0.000000
-0.300000
494160.440089
3658218.423120
