0.300000
0.000000
0.000000
-0.300000
488330.240089
3665152.623120
