0.300000
0.000000
0.000000
-0.300000
494164.640089
3665147.223120
