0.300000
0.000000
0.000000
-0.300000
558670.940089
3602996.823120
