0.300000
0.000000
0.000000
-0.300000
564538.040089
3603036.423120
