0.300000
0.000000
0.000000
-0.300000
569713.940089
3700086.123120
