0.300000
0.000000
0.000000
-0.300000
575523.440089
3700133.223120
