0.300000
0.000000
0.000000
-0.300000
569663.840089
3707015.523120
