0.300000
0.000000
0.000000
-0.300000
575469.440089
3707062.923120
