0.300000
0.000000
0.000000
-0.300000
523467.440089
3602831.523120
