0.300000
0.000000
0.000000
-0.300000
529334.840089
3602850.423120
