0.300000
0.000000
0.000000
-0.300000
505845.740089
3637437.423120
