0.300000
0.000000
0.000000
-0.300000
575631.740089
3686274.123120
