0.300000
0.000000
0.000000
-0.300000
569763.740089
3693156.423120
