0.300000
0.000000
0.000000
-0.300000
575577.740089
3693203.523120
