0.300000
0.000000
0.000000
-0.300000
494156.240089
3651289.623120
