0.300000
0.000000
0.000000
-0.300000
546739.940089
3644499.723120
