0.300000
0.000000
0.000000
-0.300000
546707.240089
3651428.523120
