0.300000
0.000000
0.000000
-0.300000
593218.640089
3672577.323120
