0.300000
0.000000
0.000000
-0.300000
598974.740089
3679567.623120
