0.300000
0.000000
0.000000
-0.300000
505861.940089
3609723.723120
