0.300000
0.000000
0.000000
-0.300000
564268.340089
3644608.623120
