0.300000
0.000000
0.000000
-0.300000
558384.440089
3651497.823120
