0.300000
0.000000
0.000000
-0.300000
564223.040089
3651537.723120
