0.300000
0.000000
0.000000
-0.300000
581449.640089
3686324.823120
