0.300000
0.000000
0.000000
-0.300000
587267.840089
3686378.823120
